BEGIN:VCALENDAR
VERSION:2.0
CALSCALE:GREGORIAN
PRODID:-//HiOrg-Server.de//NONSGML HiOrg-Server//EN
X-LOTUS-CHARSET:UTF-8
X-WR-TIMEZONE:Europe/Berlin
X-WR-CALNAME:HiOrg-Server HOL
X-WR-CALDESC:HiOrg-Server HOL
BEGIN:VEVENT
UID:16313044-16543161@hol.hiorg-server.de
CATEGORIES:HiOrg-Server
TRANSP:OPAQUE
CLASS:PUBLIC
SEQUENCE:0
DTSTAMP:20260420T023943Z
DTSTART:20260508T173000Z
DTEND:20260508T200000Z
SUMMARY:Monatsversammlung - Konventionsbeauftragter im KV Miesbach
LOCATION:BRK Holzkirchen\, Badgasse  5\, 83607 Holzkirchen
GEO:47.8769246;11.7038605
ORGANIZER:mailto:info@brk-holzkirchen.de
DESCRIPTION:Veranstaltungszeit: 20.00 - 22.00\nTreffpunkt: BRK Holzkir
 chen ab 19:30
X-URL;VALUE="URI":https://www.hiorg-server.de/termine.php?ov=hol&termi
 n=1&dienst=1&kurs=1&zr_dienst=1&kurstage=1&kursfrei=1
URL:https://www.hiorg-server.de/termine.php?ov=hol&termin=1&dienst=1&k
 urs=1&zr_dienst=1&kurstage=1&kursfrei=1
END:VEVENT
BEGIN:VEVENT
UID:16313046-16543163@hol.hiorg-server.de
CATEGORIES:HiOrg-Server
TRANSP:OPAQUE
CLASS:PUBLIC
SEQUENCE:0
DTSTAMP:20260420T023943Z
DTSTART:20260605T173000Z
DTEND:20260605T200000Z
SUMMARY:Monatsversammlung - Betreuungsdienst
LOCATION:BRK Holzkirchen\, Badgasse  5\, 83607 Holzkirchen
GEO:47.8769246;11.7038605
ORGANIZER:mailto:info@brk-holzkirchen.de
DESCRIPTION:Veranstaltungszeit: 20.00 - 22.00\nTreffpunkt: BRK Holzkir
 chen ab 19:30
X-URL;VALUE="URI":https://www.hiorg-server.de/termine.php?ov=hol&termi
 n=1&dienst=1&kurs=1&zr_dienst=1&kurstage=1&kursfrei=1
URL:https://www.hiorg-server.de/termine.php?ov=hol&termin=1&dienst=1&k
 urs=1&zr_dienst=1&kurstage=1&kursfrei=1
END:VEVENT

END:VCALENDAR